BEGIN:VCALENDAR
VERSION:2.0
PRODID:-//BAND Akademie//LMS 0.1//DE
CALSCALE:GREGORIAN
METHOD:PUBLISH
BEGIN:VEVENT
UID:08e70dc3366d3534e24241663f78997a1fdbab19@akademie.joelduss.xyz
DTSTAMP:20260420T122004Z
DTSTART:20260427T110000Z
DTEND:20260427T120000Z
SUMMARY:OneNote – digitale Notizen im Alltag
DESCRIPTION:Lernen Sie\, wie OneNote Ihren Arbeitsalltag einfacher macht: Notizbücher\, Abschnitte\, Seiten\, Verknüpfungen mit Outlook und Teams.\n\n**Voraussetzung:** Grundkenntnisse PC / Laptop. Bitte eigenen Laptop mitbringen.
LOCATION:BAND Akademie\, Riedbachstrasse 9\, 3027 Bern
ORGANIZER;CN=BAND Akademie:mailto:akademie@band.ch
URL:https://akademie.joelduss.xyz/kurs/onenote-grundkurs
STATUS:CONFIRMED
TRANSP:OPAQUE
END:VEVENT
END:VCALENDAR
